BEGIN:VCALENDAR
VERSION:2.0
PRODID:-//Bribie Island - ECPv6.15.20//NONSGML v1.0//EN
CALSCALE:GREGORIAN
METHOD:PUBLISH
X-WR-CALNAME:Bribie Island
X-ORIGINAL-URL:https://www.bribiersl.com.au
X-WR-CALDESC:Events for Bribie Island
REFRESH-INTERVAL;VALUE=DURATION:PT1H
X-Robots-Tag:noindex
X-PUBLISHED-TTL:PT1H
BEGIN:VTIMEZONE
TZID:Australia/Brisbane
BEGIN:STANDARD
TZOFFSETFROM:+1000
TZOFFSETTO:+1000
TZNAME:AEST
DTSTART:20220101T000000
END:STANDARD
END:VTIMEZONE
BEGIN:VEVENT
DTSTART;TZID=Australia/Brisbane:20230221T093000
DTEND;TZID=Australia/Brisbane:20230221T110000
DTSTAMP:20260420T140553
CREATED:20230118T224007Z
LAST-MODIFIED:20230118T224008Z
UID:33270-1676971800-1676977200@www.bribiersl.com.au
SUMMARY:Neighbor Hood Watch
DESCRIPTION:Bongaree Neighbourhood Watch \nNeighbourhood Watch is a community-based program that plays an integral role in the establishment of community partnerships\, reducing crime & improving community safety. \nPublic meetings are held 9:30am\, every third Tuesday of each month at Bribie RSL ANZAC room. \nOpportunity for residents to discuss community safety needs plus a guest speaker giving information relevant to our community. \nArea Co-Ordinator: Greg Rollason. Phone – 07 3408 1998 \nEmail; bongareenhw@outlook.com \nFacebook; https://www.facebook.com/bongareenhw \n 
URL:https://www.bribiersl.com.au/commevents/neighbor-hood-watch-2/
ATTACH;FMTTYPE=image/jpeg:https://www.bribiersl.com.au/wp-content/uploads/2022/09/Neighbour-hood-watch.jpg
END:VEVENT
END:VCALENDAR